BEGIN:VCALENDAR
VERSION:2.0
PRODID:-//time.you/holidays//NONSGML v1.0//EN
BEGIN:VEVENT
UID:cebe1c17-4855-47db-a3fb-e1dff61c7bf0
DTSTAMP:20260421T223125Z
DTSTART;VALUE=DATE:20260731
SUMMARY:Mary Prince Day (Bermuda)
END:VEVENT
END:VCALENDAR