BEGIN:VCALENDAR
VERSION:2.0
PRODID:-//time.you/holidays//NONSGML v1.0//EN
BEGIN:VEVENT
UID:1f1ab177-a9f3-4e51-80d8-ee1a83e6591f
DTSTAMP:20260424T125558Z
DTSTART;VALUE=DATE:20230508
SUMMARY:The Coronation of His Majesty King Charles III (Bermuda)
END:VEVENT
END:VCALENDAR