BEGIN:VCALENDAR
VERSION:2.0
PRODID:-//time.you/holidays//NONSGML v1.0//EN
BEGIN:VEVENT
UID:aeafb4cd-c000-4675-87ce-570a8a947fc0
DTSTAMP:20260422T070832Z
DTSTART;VALUE=DATE:20310222
SUMMARY:Birth Anniversary of His Majesty the King; Losar (Bhutan)
END:VEVENT
END:VCALENDAR