BEGIN:VCALENDAR
VERSION:2.0
PRODID:-//time.you/holidays//NONSGML v1.0//EN
BEGIN:VEVENT
UID:9000a077-a29f-4022-9aef-4cc055d75de9
DTSTAMP:20260420T013043Z
DTSTART;VALUE=DATE:20260502
SUMMARY:Birth Anniversary of the 3rd Druk Gyalpo (Bhutan)
END:VEVENT
END:VCALENDAR