BEGIN:VCALENDAR
VERSION:2.0
PRODID:-//time.you/holidays//NONSGML v1.0//EN
BEGIN:VEVENT
UID:d98a48bc-8fdd-4f42-ada3-8d64296f4522
DTSTAMP:20260420T090333Z
DTSTART;VALUE=DATE:20261111
SUMMARY:Birth Anniversary of the 4th Druk Gyalpo - Constitution Day (Bhutan)
END:VEVENT
END:VCALENDAR