BEGIN:VCALENDAR
VERSION:2.0
PRODID:-//time.you/holidays//NONSGML v1.0//EN
BEGIN:VEVENT
UID:4155eb26-41e2-49d8-a3bf-80f112e6a0dc
DTSTAMP:20260420T062548Z
DTSTART;VALUE=DATE:20260923
SUMMARY:Blessed Rainy Day; Thimphu Tshechu (Bhutan)
END:VEVENT
END:VCALENDAR