BEGIN:VCALENDAR
VERSION:2.0
PRODID:-//time.you/holidays//NONSGML v1.0//EN
BEGIN:VEVENT
UID:32034c7d-734a-4eb0-ba56-bc3437a54ea4
DTSTAMP:20260421T184346Z
DTSTART;VALUE=DATE:20271101
SUMMARY:Coronation of His Majesty the King (Bhutan)
END:VEVENT
END:VCALENDAR