BEGIN:VCALENDAR
VERSION:2.0
PRODID:-//time.you/holidays//NONSGML v1.0//EN
BEGIN:VEVENT
UID:5296e691-deb8-4986-b4f1-c28416beda05
DTSTAMP:20260424T053301Z
DTSTART;VALUE=DATE:20251002
SUMMARY:Dassain; Thimphu Tshechu (Bhutan)
END:VEVENT
END:VCALENDAR