BEGIN:VCALENDAR
VERSION:2.0
PRODID:-//time.you/holidays//NONSGML v1.0//EN
BEGIN:VEVENT
UID:ffd1fbd4-e529-4298-8a3a-832b49af5dfe
DTSTAMP:20260420T021754Z
DTSTART;VALUE=DATE:20260718
SUMMARY:First Sermon of Lord Buddha (Bhutan)
END:VEVENT
END:VCALENDAR