BEGIN:VCALENDAR
VERSION:2.0
PRODID:-//time.you/holidays//NONSGML v1.0//EN
BEGIN:VEVENT
UID:7119a146-47aa-4dd7-af99-b363f2d9a4bb
DTSTAMP:20260422T015954Z
DTSTART;VALUE=DATE:20260921
SUMMARY:Thimphu Tshechu (Bhutan)
END:VEVENT
END:VCALENDAR