BEGIN:VCALENDAR
VERSION:2.0
PRODID:-//time.you/holidays//NONSGML v1.0//EN
BEGIN:VEVENT
UID:0f02afaa-a312-4899-bcc2-9ae3a464b940
DTSTAMP:20260423T102259Z
DTSTART;VALUE=DATE:20260102
SUMMARY:Winter Solstice (Bhutan)
END:VEVENT
END:VCALENDAR