BEGIN:VCALENDAR
VERSION:2.0
PRODID:-//time.you/holidays//NONSGML v1.0//EN
BEGIN:VEVENT
UID:73ec2ee3-621a-4eaa-b895-268e85fc5293
DTSTAMP:20260420T090313Z
DTSTART;VALUE=DATE:20260621
SUMMARY:Aymara New Year (Bolivia)
END:VEVENT
END:VCALENDAR