BEGIN:VCALENDAR
VERSION:2.0
PRODID:-//time.you/holidays//NONSGML v1.0//EN
BEGIN:VEVENT
UID:911c4c7f-8c7b-4e45-aab5-305c2cd217c2
DTSTAMP:20260421T132808Z
DTSTART;VALUE=DATE:20261118
SUMMARY:Beni Day (Bolivia)
END:VEVENT
END:VCALENDAR