BEGIN:VCALENDAR
VERSION:2.0
PRODID:-//time.you/holidays//NONSGML v1.0//EN
BEGIN:VEVENT
UID:1e0f2b53-c76e-4c91-b55e-9e72a016829b
DTSTAMP:20260421T235200Z
DTSTART;VALUE=DATE:20260213
SUMMARY:Carnival in Oruro (Bolivia)
END:VEVENT
END:VCALENDAR