BEGIN:VCALENDAR
VERSION:2.0
PRODID:-//time.you/holidays//NONSGML v1.0//EN
BEGIN:VEVENT
UID:26cb690f-c4ea-46e0-beef-3e22cb829406
DTSTAMP:20260420T055803Z
DTSTART;VALUE=DATE:20260216
SUMMARY:Carnival (Bolivia)
END:VEVENT
END:VCALENDAR