BEGIN:VCALENDAR
VERSION:2.0
PRODID:-//time.you/holidays//NONSGML v1.0//EN
BEGIN:VEVENT
UID:6ab15ce3-1bb9-4893-9282-1f9bac8b3a1e
DTSTAMP:20260421T194359Z
DTSTART;VALUE=DATE:20260525
SUMMARY:Chuquisaca Day (Bolivia)
END:VEVENT
END:VCALENDAR