BEGIN:VCALENDAR
VERSION:2.0
PRODID:-//time.you/holidays//NONSGML v1.0//EN
BEGIN:VEVENT
UID:81a92240-e2fc-45c0-b653-d8ef4f54b7c4
DTSTAMP:20260421T160851Z
DTSTART;VALUE=DATE:20260914
SUMMARY:Cochabamba Day (Bolivia)
END:VEVENT
END:VCALENDAR