BEGIN:VCALENDAR
VERSION:2.0
PRODID:-//time.you/holidays//NONSGML v1.0//EN
BEGIN:VEVENT
UID:45e18f44-7d1b-4d57-92d4-1d9a8618a336
DTSTAMP:20260421T154339Z
DTSTART;VALUE=DATE:20260604
SUMMARY:Corpus Christi (Bolivia)
END:VEVENT
END:VCALENDAR