BEGIN:VCALENDAR
VERSION:2.0
PRODID:-//time.you/holidays//NONSGML v1.0//EN
BEGIN:VEVENT
UID:181a4228-18d0-42be-b751-a7ce67e279a4
DTSTAMP:20260421T205306Z
DTSTART;VALUE=DATE:20330415
SUMMARY:Good Friday; La Tablada (Bolivia)
END:VEVENT
END:VCALENDAR