BEGIN:VCALENDAR
VERSION:2.0
PRODID:-//time.you/holidays//NONSGML v1.0//EN
BEGIN:VEVENT
UID:5977ed7a-5ceb-4fcb-8918-ef2520983bfa
DTSTAMP:20260421T183405Z
DTSTART;VALUE=DATE:20280807
SUMMARY:Independence Day (observed) (Bolivia)
END:VEVENT
END:VCALENDAR