BEGIN:VCALENDAR
VERSION:2.0
PRODID:-//time.you/holidays//NONSGML v1.0//EN
BEGIN:VEVENT
UID:71f90c21-0a53-4e81-a811-c61d42bdc1d3
DTSTAMP:20260421T125244Z
DTSTART;VALUE=DATE:20340123
SUMMARY:Plurinational State Foundation Day (observed) (Bolivia)
END:VEVENT
END:VCALENDAR