BEGIN:VCALENDAR
VERSION:2.0
PRODID:-//time.you/holidays//NONSGML v1.0//EN
BEGIN:VEVENT
UID:3b8ba0af-af2d-49aa-9d57-b17fa783b602
DTSTAMP:20260422T030240Z
DTSTART;VALUE=DATE:20260924
SUMMARY:Santa Cruz Day (Bolivia)
END:VEVENT
END:VCALENDAR