BEGIN:VCALENDAR
VERSION:2.0
PRODID:-//time.you/holidays//NONSGML v1.0//EN
BEGIN:VEVENT
UID:365776b8-b307-4689-98c8-895a3c74f9db
DTSTAMP:20260421T143850Z
DTSTART;VALUE=DATE:20260906
SUMMARY:Bonaire Day (Bonaire, Sint Eustatius and Saba)
END:VEVENT
END:VCALENDAR