BEGIN:VCALENDAR
VERSION:2.0
PRODID:-//time.you/holidays//NONSGML v1.0//EN
BEGIN:VEVENT
UID:989451d4-4595-4947-8fbb-1577aa9a80b0
DTSTAMP:20260422T051751Z
DTSTART;VALUE=DATE:20250502
SUMMARY:Bridge Holiday (Bonaire, Sint Eustatius and Saba)
END:VEVENT
END:VCALENDAR