BEGIN:VCALENDAR
VERSION:2.0
PRODID:-//time.you/holidays//NONSGML v1.0//EN
BEGIN:VEVENT
UID:880875c4-ebce-4e5a-9f6f-6fffd5fb202e
DTSTAMP:20260419T233552Z
DTSTART;VALUE=DATE:20260405
SUMMARY:Easter Sunday (Bonaire, Sint Eustatius and Saba)
END:VEVENT
END:VCALENDAR