BEGIN:VCALENDAR
VERSION:2.0
PRODID:-//time.you/holidays//NONSGML v1.0//EN
BEGIN:VEVENT
UID:d39f024f-d190-463b-b1b7-cf629bab95f6
DTSTAMP:20260421T205516Z
DTSTART;VALUE=DATE:20260701
SUMMARY:Emancipation Day (Bonaire, Sint Eustatius and Saba)
END:VEVENT
END:VCALENDAR