BEGIN:VCALENDAR
VERSION:2.0
PRODID:-//time.you/holidays//NONSGML v1.0//EN
BEGIN:VEVENT
UID:1f632445-456e-42d2-bf32-8385938e859b
DTSTAMP:20260421T205331Z
DTSTART;VALUE=DATE:20260101
SUMMARY:New Year's Day (Bonaire, Sint Eustatius and Saba)
END:VEVENT
END:VCALENDAR