BEGIN:VCALENDAR
VERSION:2.0
PRODID:-//time.you/holidays//NONSGML v1.0//EN
BEGIN:VEVENT
UID:a17cf030-19b0-4da0-9352-7ebc018e121c
DTSTAMP:20260421T203146Z
DTSTART;VALUE=DATE:20261204
SUMMARY:Saba Day (Bonaire, Sint Eustatius and Saba)
END:VEVENT
END:VCALENDAR