BEGIN:VCALENDAR
VERSION:2.0
PRODID:-//time.you/holidays//NONSGML v1.0//EN
BEGIN:VEVENT
UID:b1800256-9ecf-4b42-b756-2de9b579c110
DTSTAMP:20260420T090320Z
DTSTART;VALUE=DATE:20261116
SUMMARY:Statia Day (Bonaire, Sint Eustatius and Saba)
END:VEVENT
END:VCALENDAR