BEGIN:VCALENDAR
VERSION:2.0
PRODID:-//time.you/holidays//NONSGML v1.0//EN
BEGIN:VEVENT
UID:b2a0a032-1ba2-47dc-8d32-d1a16088fdc5
DTSTAMP:20260420T090338Z
DTSTART;VALUE=DATE:20261225
SUMMARY:Catholic Christmas Day (Bosnia and Herzegovina)
END:VEVENT
END:VCALENDAR