BEGIN:VCALENDAR
VERSION:2.0
PRODID:-//time.you/holidays//NONSGML v1.0//EN
BEGIN:VEVENT
UID:03d1587b-dc19-4962-81c0-fc1a4878a353
DTSTAMP:20260420T062526Z
DTSTART;VALUE=DATE:20260406
SUMMARY:Catholic Easter Monday (Bosnia and Herzegovina)
END:VEVENT
END:VCALENDAR