BEGIN:VCALENDAR
VERSION:2.0
PRODID:-//time.you/holidays//NONSGML v1.0//EN
BEGIN:VEVENT
UID:57c1b5f0-21db-4c5e-93b9-d22280df66af
DTSTAMP:20260422T073844Z
DTSTART;VALUE=DATE:20280416
SUMMARY:Catholic Easter Sunday; Orthodox Easter Sunday (Bosnia and Herzegovina)
END:VEVENT
END:VCALENDAR