BEGIN:VCALENDAR
VERSION:2.0
PRODID:-//time.you/holidays//NONSGML v1.0//EN
BEGIN:VEVENT
UID:5475e53a-4216-47c0-af9d-c1caeb171ba1
DTSTAMP:20260422T073910Z
DTSTART;VALUE=DATE:20260405
SUMMARY:Catholic Easter Sunday (Bosnia and Herzegovina)
END:VEVENT
END:VCALENDAR