BEGIN:VCALENDAR
VERSION:2.0
PRODID:-//time.you/holidays//NONSGML v1.0//EN
BEGIN:VEVENT
UID:d904c0db-5a28-4bdb-ba48-cdd6c44caafb
DTSTAMP:20260424T164432Z
DTSTART;VALUE=DATE:20260403
SUMMARY:Catholic Good Friday (Bosnia and Herzegovina)
END:VEVENT
END:VCALENDAR