BEGIN:VCALENDAR
VERSION:2.0
PRODID:-//time.you/holidays//NONSGML v1.0//EN
BEGIN:VEVENT
UID:e7fecf0d-68ad-4086-9c6b-53da2733c202
DTSTAMP:20260422T061337Z
DTSTART;VALUE=DATE:20261121
SUMMARY:Dayton Agreement Day (Bosnia and Herzegovina)
END:VEVENT
END:VCALENDAR