BEGIN:VCALENDAR
VERSION:2.0
PRODID:-//time.you/holidays//NONSGML v1.0//EN
BEGIN:VEVENT
UID:c25ef6b4-a63c-4bbf-b8aa-29bcf3c7d8e2
DTSTAMP:20260424T145911Z
DTSTART;VALUE=DATE:20220503
SUMMARY:Eid al-Fitr; International Labor Day (observed) (Bosnia and Herzegovina)
END:VEVENT
END:VCALENDAR