BEGIN:VCALENDAR
VERSION:2.0
PRODID:-//time.you/holidays//NONSGML v1.0//EN
BEGIN:VEVENT
UID:a4e3b4cf-926b-47a3-8413-6ea920090fbd
DTSTAMP:20260422T073909Z
DTSTART;VALUE=DATE:20260301
SUMMARY:Independence Day (Bosnia and Herzegovina)
END:VEVENT
END:VCALENDAR