BEGIN:VCALENDAR
VERSION:2.0
PRODID:-//time.you/holidays//NONSGML v1.0//EN
BEGIN:VEVENT
UID:aaedf89c-03f0-47ff-a6e7-68a9fed26885
DTSTAMP:20260421T211738Z
DTSTART;VALUE=DATE:20270503
SUMMARY:International Labor Day (observed) (Bosnia and Herzegovina)
END:VEVENT
END:VCALENDAR