BEGIN:VCALENDAR
VERSION:2.0
PRODID:-//time.you/holidays//NONSGML v1.0//EN
BEGIN:VEVENT
UID:6cb65423-b48a-47ce-a994-969f0cd19ac5
DTSTAMP:20260420T144347Z
DTSTART;VALUE=DATE:20270502
SUMMARY:International Labor Day; Orthodox Easter Sunday (Bosnia and Herzegovina)
END:VEVENT
END:VCALENDAR