BEGIN:VCALENDAR
VERSION:2.0
PRODID:-//time.you/holidays//NONSGML v1.0//EN
BEGIN:VEVENT
UID:1d804114-c478-4080-ae30-3f39d61b68f0
DTSTAMP:20260420T074312Z
DTSTART;VALUE=DATE:20260501
SUMMARY:International Labor Day (Bosnia and Herzegovina)
END:VEVENT
END:VCALENDAR