BEGIN:VCALENDAR
VERSION:2.0
PRODID:-//time.you/holidays//NONSGML v1.0//EN
BEGIN:VEVENT
UID:6eebc86f-8736-4740-806e-85ac1273ecd3
DTSTAMP:20260420T090336Z
DTSTART;VALUE=DATE:20260107
SUMMARY:Orthodox Christmas Day (Bosnia and Herzegovina)
END:VEVENT
END:VCALENDAR