BEGIN:VCALENDAR
VERSION:2.0
PRODID:-//time.you/holidays//NONSGML v1.0//EN
BEGIN:VEVENT
UID:6de765e0-bdd3-4b5b-84ad-3a64f75ae250
DTSTAMP:20260421T211541Z
DTSTART;VALUE=DATE:20260106
SUMMARY:Orthodox Christmas Eve (Bosnia and Herzegovina)
END:VEVENT
END:VCALENDAR