BEGIN:VCALENDAR
VERSION:2.0
PRODID:-//time.you/holidays//NONSGML v1.0//EN
BEGIN:VEVENT
UID:06bd522f-c4c8-4072-8fc0-0270cf74be2e
DTSTAMP:20260422T073918Z
DTSTART;VALUE=DATE:20260413
SUMMARY:Orthodox Easter Monday (Bosnia and Herzegovina)
END:VEVENT
END:VCALENDAR