BEGIN:VCALENDAR
VERSION:2.0
PRODID:-//time.you/holidays//NONSGML v1.0//EN
BEGIN:VEVENT
UID:fa34fbc4-ae01-4b4b-b7c9-717f83e8f541
DTSTAMP:20260422T073828Z
DTSTART;VALUE=DATE:20260410
SUMMARY:Orthodox Good Friday (Bosnia and Herzegovina)
END:VEVENT
END:VCALENDAR