BEGIN:VCALENDAR
VERSION:2.0
PRODID:-//time.you/holidays//NONSGML v1.0//EN
BEGIN:VEVENT
UID:0dfb2e6d-12e1-4bb4-ba3a-816ec48e23a1
DTSTAMP:20260422T100532Z
DTSTART;VALUE=DATE:20260509
SUMMARY:Victory Day (Bosnia and Herzegovina)
END:VEVENT
END:VCALENDAR