BEGIN:VCALENDAR
VERSION:2.0
PRODID:-//time.you/holidays//NONSGML v1.0//EN
BEGIN:VEVENT
UID:2fb1caf9-2073-4ee5-b944-6d7c4bb22707
DTSTAMP:20260425T023059Z
DTSTART;VALUE=DATE:20260514
SUMMARY:Ascension Day (Botswana)
END:VEVENT
END:VCALENDAR