BEGIN:VCALENDAR
VERSION:2.0
PRODID:-//time.you/holidays//NONSGML v1.0//EN
BEGIN:VEVENT
UID:f4fec66a-e65b-42f9-b35a-cd5e193a8e0c
DTSTAMP:20260420T164443Z
DTSTART;VALUE=DATE:20281002
SUMMARY:Botswana Day Holiday (observed) (Botswana)
END:VEVENT
END:VCALENDAR