BEGIN:VCALENDAR
VERSION:2.0
PRODID:-//time.you/holidays//NONSGML v1.0//EN
BEGIN:VEVENT
UID:ec6cec77-dce8-4325-af55-fa1dc88172fb
DTSTAMP:20260420T070942Z
DTSTART;VALUE=DATE:20261001
SUMMARY:Botswana Day Holiday (Botswana)
END:VEVENT
END:VCALENDAR