BEGIN:VCALENDAR
VERSION:2.0
PRODID:-//time.you/holidays//NONSGML v1.0//EN
BEGIN:VEVENT
UID:6b694df1-d5f7-45d8-bd6c-55e2f6022a0c
DTSTAMP:20260420T082846Z
DTSTART;VALUE=DATE:20260930
SUMMARY:Botswana Day (Botswana)
END:VEVENT
END:VCALENDAR