BEGIN:VCALENDAR
VERSION:2.0
PRODID:-//time.you/holidays//NONSGML v1.0//EN
BEGIN:VEVENT
UID:8478d24a-3b01-47c6-9d0a-4f4139252a77
DTSTAMP:20260424T022854Z
DTSTART;VALUE=DATE:20261226
SUMMARY:Boxing Day (Botswana)
END:VEVENT
END:VCALENDAR